Workbook

Sheet realizacia
C2: OZ Rajčianska 3 | E2: =COUNTA(banka!A:A)+14 -> 662 | F2: Sumár výdavkov ban. : | G2: =E91 -> -16035.05
C3: Rozpočet na školský rok 2024/2025 | E3: =INDEX(banka!P:P,E2) -> 12468.24 | F3: Zostatok na účte : | G3: =D6+E15+G2 -> 12468.24
E4: =G3-E3 -> 0
C5: Stav majetku ku dňu : | D5: 45901
C6: Majetok OZ - ÚČET | D6: 10798.29 | F6: Majetok spolu : | G6: =G3+H5 -> 12468.24
C7: Majetok OZ HOTOVOSŤ | D7: 0 | F7: ku dňu: | G7: 45900
C8: Majetok OZ - INÉ | D8: 0
C9: Majetok spolu : | D9: =SUM(D6:D8) -> 10798.29 | F9: návrh | G9: =D91 -> 35951.5
C11: Druh - príjmu | D11: odhad | E11: real
C12: Výška príjmu z členských poplatkov | D12: 19500 | E12: =SUMIF(banka!A:A,realizacia!F12,banka!G:G)+G13 -> 17705 | F12: clenske
C13: Sponzorské príspevky | D13: 1000 | E13: =SUMIF(banka!A:A,realizacia!F13,banka!G:G) -> 0 | F13: dar
C14: Príjem z 2% daní | D14: 7500 | E14: =SUMIF(banka!A:A,realizacia!F14,banka!G:G) -> 0 | F14: stat
C15: Príjem spolu : | D15: =SUM(D12:D14) -> 28000 | E15: =SUM(E12:E14) -> 17705
C17: Druh - výdaju | D17: návrh | E17: čerpanie bank. prevodom | F17: označenie riadku " banka " | G17: čerpanie predošlý ŠR | I17: podklad zo školy
B18: s | C18: Klokan - MAT | D18: 1000 | E18: =SUMIF(banka!A:A,realizacia!F18,banka!G:G) -> 0 | F18: klokan | G18: -1000 | I18: KLOKAN 1. a 2. stupeň | L18: 1000
B19: s | C19: Komparo - MAT | D19: 600 | E19: =SUMIF(banka!A:A,realizacia!F19,banka!G:G) -> 0 | F19: komparo | G19: -997.5 | I19: Komparo | L19: 1200
B20: s | C20: Komparo - MAT | D20: 600 | E20: =SUMIF(banka!A:A,realizacia!F20,banka!G:G) -> -1113.9 | F20: komparo2 | G20: 0
B21: s | C21: Matboj - MAT | D21: 200 | E21: =SUMIF(banka!A:A,realizacia!F21,banka!G:G) -> 0 | F21: matboj | G21: -60 | I21: Matboj | L21: 200
B22: s | C22: Školské kolo Pytagoriády | D22: 150 | E22: =SUMIF(banka!A:A,realizacia!F22,banka!G:G) -> 0 | G22: 0 | I22: Školské kolo Pytagoriády | L22: 150
B23: s | C23: Podujatia v rámci protidrogovej prevencie | D23: 200 | E23: =SUMIF(banka!A:A,realizacia!F23,banka!G:G) -> 0 | G23: 0 | I23: Podujatia v rámci protidrogovej prevencie | L23: 200
B24: s | C24: Európa v škole ( kvíz - peniaze ) | D24: 50 | E24: =SUMIF(banka!A:A,realizacia!F24,banka!G:G) -> 0 | G24: 0 | I24: Európsky kvíz o peniazoch | L24: 50
B25: s | C25: Výtvarné súťaže | D25: 0 | E25: =SUMIF(banka!A:A,realizacia!F25,banka!G:G) -> 0 | G25: 0
B26: s | C26: Kultúrne besedy | D26: 300 | E26: =SUMIF(banka!A:A,realizacia!F26,banka!G:G) -> 0 | G26: 0 | I26: Kultúrne besedy | L26: 300
B27: s | C27: Čítanie s Mrkvičkou | D27: 350 | E27: =SUMIF(banka!A:A,realizacia!F27,banka!G:G) -> 0 | F27: mrkva | G27: 0 | I27: Čítanie s Mrkvičkou | L27: 350
B28: s | C28: Slávik Slovenska ceny a občerstvenie | D28: 100 | E28: =SUMIF(banka!A:A,realizacia!F28,banka!G:G) -> 0 | F28: slavik | G28: -41.14 | I28: Slávik Slovenska | L28: 100
B29: s | C29: Iné súťaže ( podľa ponuky ) | D29: 0 | E29: =SUMIF(banka!A:A,realizacia!F29,banka!G:G) -> -113.15 | F29: ine sut | G29: -89.59
B30: s | C30: Vedecký deň ( MDD ) | D30: 500 | E30: =SUMIF(banka!A:A,realizacia!F30,banka!G:G) -> 0 | F30: mdd | G30: -427.45 | I30: Vedecký deň | L30: 500
B31: s | C31: Testovanie 9 - občerstvenie | D31: 0 | E31: =SUMIF(banka!A:A,realizacia!F31,banka!G:G) -> 0 | F31: test9 | G31: -64.06
B32: s | C32: Lego -robotic, účasť na súťaži | D32: 0 | E32: =SUMIF(banka!A:A,realizacia!F32,banka!G:G) -> 0 | F32: lego | G32: -935
B33: s | C33: Lego -robotic, vybavenie organizácie ( dotácia - dar ) | D33: 0 | E33: =SUMIF(banka!A:A,realizacia!F33,banka!G:G) -> 0 | F33: lego_jiskr | G33: -1500
B34: s | C34: Olympiáda zo Sj | D34: 50 | E34: =SUMIF(banka!A:A,realizacia!F34,banka!G:G) -> 0 | F34: olympSJ | G34: -15.95 | I34: Olympiáda zo Sj | L34: 50
B35: s | C35: Literárne súťaže | D35: 50 | E35: =SUMIF(banka!A:A,realizacia!F35,banka!G:G) -> 0 | G35: 0 | I35: Literárne súťaže 1. a 2. stupeň | L35: 50
B36: s | C36: Hviezdoslavov Kubín - ceny I.st. | D36: 80 | E36: =SUMIF(banka!A:A,realizacia!F36,banka!G:G) -> 0 | F36: hviezda | G36: -73.97 | I36: Hviezdoslavov Kubín - ceny I.st. | L36: 80
B37: s | C37: Hviezdoslavov Kubín - ceny II.st. | D37: 200 | E37: =SUMIF(banka!A:A,realizacia!F37,banka!G:G) -> 0 | F37: hviezda2 | G37: 0 | I37: Hviezdoslavov Kubín - ceny II.st. | L37: 200
B38: s | C38: Šaliansky Maťko - ceny - I. stupeň | D38: 80 | E38: =SUMIF(banka!A:A,realizacia!F38,banka!G:G) -> -50.15 | F38: smatko1 | G38: -46.25 | I38: Šaliansky Maťko - ceny - I. stupeň | L38: 80
B39: s | C39: Šaliansky Maťko - ceny - II. stupeň | D39: 200 | E39: =SUMIF(banka!A:A,realizacia!F39,banka!G:G) -> -59.9 | F39: smatko2 | G39: -73 | I39: Šaliansky Maťko - ceny - II. stupeň | L39: 200
C40: Reprezentácia školy - vedomostné súťaže | D40: =SUM(D18:D39) -> 4710 | E40: =SUM(E18:E39) -> -1337.1 | G40: =SUM(G18:G39) -> -5323.91
C42: Exkurzno-poznávací zájazd ( podľa ponuky) | D42: 0 | E42: =SUMIF(banka!A:A,realizacia!F42,banka!G:G) -> 0 | F42: 1Csponzorsky | G42: 0
B43: s | C43: Škola v prírode doprava | D43: 1400 | E43: =SUMIF(banka!A:A,realizacia!F43,banka!G:G) -> 0 | F43: SvP | G43: -400 | I43: Škola v prírode, LVVK doprava 1. aj 2.stupeň | L43: 1400
B44: s | C44: Plavecký výcvik doprava | D44: 0 | E44: =SUMIF(banka!A:A,realizacia!F44,banka!G:G) -> 0 | F44: plav | G44: 0
...

Sheet banka
B2: Číslo účtu: | D2: SK1902000000003058498554
B3: BIC: | D3: SUBASKBX | O3: Dátum generovania:
B4: Mena účtu: | D4: EUR | O4: Čas generovania:
B5: Typ účtu: | D5: Bežný účet
B6: Majiteľ účtu: | D6: RAJČIANSKA 3
B8: Export pohybov na účte SK1902000000003058498554
B9: podľa zvolených vyhľadávacích kritérií
B13: Detaily transakcií:
A15: zaradenie | B15: Dátum zaúčtovania | C15: Dátum realizácie | D15: Účet partnera | E15: BIC | F15: Názov partnera | G15: Suma | H15: Mena | I15: Referencia partnera | J15: VS | K15: ŠS | L15: KS | M15: Doplňujúce informácie | N15: Číslo dokladu | O15: Identifikátor dávky platieb | P15: Účtovný zostatok
A16: clenske | B16: 45904 | C16: 45904 | F16: Andrea Al Attalah | G16: 30 | H16: EUR | P16: 10828.29
A17: clenske | B17: 45905 | C17: 45905 | F17: Marianna Modrovichová | G17: 50 | H17: EUR | P17: 10878.29
A18: clenske | B18: 45905 | C18: 45904 | F18: Luknárová Monika, Ing. | G18: 30 | H18: EUR | P18: 10908.29
A19: clenske | B19: 45908 | C19: 45905 | F19: Mária Miklošová | G19: 30 | H19: EUR | P19: 10938.29
A20: clenske | B20: 45908 | C20: 45905 | F20: Soňa Gajdošová | G20: 30 | H20: EUR | P20: 10968.29
A21: clenske | B21: 45908 | C21: 45905 | F21: POLIACIKOVA ALEXANDR | G21: 30 | H21: EUR | P21: 10998.29
A22: clenske | B22: 45908 | C22: 45905 | F22: Diana Jankovic Cechova | G22: 30 | H22: EUR | P22: 11028.29
A23: clenske | B23: 45908 | C23: 45905 | F23: Viktória Chorváthová | G23: 30 | H23: EUR | P23: 11058.29
A24: clenske | B24: 45908 | C24: 45906 | F24: Martin Hromek | G24: 30 | H24: EUR | P24: 11088.29
A25: clenske | B25: 45908 | C25: 45906 | F25: Stebnická Andrea, Mgr. | G25: 30 | H25: EUR | P25: 11118.29
A26: clenske | B26: 45908 | C26: 45906 | F26: Stebnická Andrea, Mgr. | G26: 30 | H26: EUR | P26: 11148.29
A27: clenske | B27: 45908 | C27: 45906 | F27: Eva Kozics Kulčárová | G27: 30 | H27: EUR | P27: 11178.29
... A339: clenske | B339: 45923 | C339: 45923 | F339: Angelika Hallova | G339: -30 | H339: EUR | P339: 20498.29
A340: kab1-4 | B340: 45923 | C340: 45923 | D340: SK2909000000005033845424 | E340: GIBASKBX | F340: Alza | G340: -18.57 | H340: EUR | I340: /VS561781936/SS/KS8 | J340: 0561781936 | L340: 0008 | M340: objednavka 561781936 | N340: 2509232KO7IBR | P340: 20479.72
A341: clenske | B341: 45923 | C341: 45923 | F341: INFRA Slovakia, s.r.o. | G341: -325 | H341: EUR | P341: 20154.72
A342: clenske | B342: 45924 | C342: 45923 | F342: Klaudia Krížiková | G342: 30 | H342: EUR | P342: 20184.72
A343: clenske | B343: 45924 | C343: 45923 | F343: Buran Sinani | G343: 30 | H343: EUR | P343: 20214.72
A344: clenske | B344: 45924 | C344: 45923 | F344: Sayedová Jana, Ing. | G344: 30 | H344: EUR | P344: 20244.72
A345: clenske | B345: 45925 | C345: 45925 | F345: MARTIN VYSLOCKY | G345: 30 | H345: EUR | P345: 20274.72
A346: clenske | B346: 45925 | C346: 45925 | F346: Lucia Conkova | G346: 30 | H346: EUR | P346: 20304.72
A347: clenske | B347: 45926 | C347: 45926 | F347: Ingrid Hercegova | G347: 30 | H347: EUR | P347: 20334.72
A348: clenske | B348: 45926 | C348: 45926 | F348: Miroslav Kovacik | G348: 30 | H348: EUR | P348: 20364.72
A349: clenske | B349: 45926 | C349: 45926 | F349: Kristina Hrinkova | G349: 30 | H349: EUR | P349: 20394.72
A350: clenske | B350: 45929 | C350: 45928 | F350: Šišková Katarína, Ing. | G350: 30 | H350: EUR | P350: 20424.72
A351: clenske | B351: 45929 | C351: 45929 | F351: Iurii Aleksyshynets | G351: 30 | H351: EUR | P351: 20454.72
A352: clenske | B352: 45929 | C352: 45929 | F352: Oleksandr Zykov | G352: 30 | H352: EUR | P352: 20484.72
... A358: clenske | B358: 45930 | C358: 45930 | F358: Roman Kocnar | G358: 30 | H358: EUR | P358: 20664.72
A359: banka | B359: 45930 | C359: 45930 | G359: -8 | H359: EUR | J359: 0000000009 | L359: 0898 | M359: Vedenie konta VÚB Biznis účet Štan | N359: 3009IG0174904 | P359: 20656.72
A360: banka | B360: 45930 | C360: 45930 | G360: -82 | H360: EUR | J360: 0000000009 | L360: 0898 | M360: Poplatky za platby nad rámec konta | N360: 3009IG0174905 | P360: 20574.72
A361: clenske | B361: 45931 | C361: 45931 | F361: Tatiana Marusinska | G361: 30 | H361: EUR | P361: 20604.72
A362: clenske | B362: 45931 | C362: 45931 | F362: Peter Šerák | G362: 30 | H362: EUR | P362: 20634.72
...

Sheet 2% a pris
C3: 0.02 | D3: rodičia | E3: spolu
B4: školský rok 2013/2014 | C4: 4162.52 | D4: 14240 | E4: =SUM(C4:D4) -> 18402.52
B5: školský rok 2014/2015 | C5: 6265.41 | D5: 11420 | E5: =SUM(C5:D5) -> 17685.41
B6: školský rok 2015/2016 | C6: 5618.8 | D6: 12467 | E6: =SUM(C6:D6) -> 18085.8
B7: školský rok 2016/2017 | C7: 8628.58 | D7: 12707 | E7: =SUM(C7:D7) -> 21335.58
B8: školský rok 2017/2018 | C8: 6197.58 | D8: 13001 | E8: =SUM(C8:D8) -> 19198.58
B9: školský rok 2018/2019 | C9: 9729.95 | D9: 15197 | E9: =SUM(C9:D9) -> 24926.95
B10: školský rok 2019/2020 | C10: 3036.6 | D10: 15715 | E10: =SUM(C10:D10) -> 18751.6
B11: školský rok 2020/2021 | C11: 10637.42 | D11: 13208 | E11: =SUM(C11:D11) -> 23845.42
B12: školský rok 2021/2022 | C12: 7183.73 | D12: 14235 | E12: =SUM(C12:D12) -> 21418.73
B13: školský rok 2022/2023 | C13: 7625.57 | D13: 12285.27 | E13: =SUM(C13:D13) -> 19910.84
B14: školský rok 2023/2024 | C14: 7400.69 | D14: 21820 | E14: =SUM(C14:D14) -> 29220.69
B15: školský rok 2024/2025 | C15: 7785.16 | D15: 19472.7 | E15: =SUM(C15:D15) -> 27257.86
B27: účtovný rok 2014 | C27: 4162.52
B28: účtovný rok 2015 | C28: 6265.41
B29: účtovný rok 2016 | C29: 6472.1
B30: účtovný rok 2017 | C30: 7788
B31: účtovný rok 2018 | C31: 6873.54
B32: účtovný rok 2019 | C32: 9836.03
B33: účtovný rok 2020 | C33: 3020.42
B34: účtovný rok 2021 | C34: 11115.17
B35: účtovný rok 2022 | C35: 7212.64 | D35: 45358
B36: účtovný rok 2023 | C36: 7933.53 | D36: 45721
B37: účtovný rok 2024 | C37: 7400.69 | D37: 46043
B38: účtovný rok 2025
