Workbook

Sheet realizacia
C2: OZ Rajčianska 3 | E2: =COUNTA(banka!A:A)+14 -> 662 | F2: Sumár výdavkov ban. : | G2: =E91 -> -16035.05
C3: Rozpočet na školský rok 2024/2025 | E3: =INDEX(banka!P:P,E2) -> 12468.24 | F3: Zostatok na účte : | G3: =D6+E15+G2 -> 12468.24
E4: =G3-E3 -> 0
C5: Stav majetku ku dňu : | D5: 45901
C6: Majetok OZ - ÚČET | D6: 10798.29 | F6: Majetok spolu : | G6: =G3+H5 -> 12468.24
C7: Majetok OZ HOTOVOSŤ | D7: 0 | F7: ku dňu: | G7: 45900
C8: Majetok OZ - INÉ | D8: 0
C9: Majetok spolu : | D9: =SUM(D6:D8) -> 10798.29 | F9: návrh | G9: =D91 -> 35951.5
C11: Druh - príjmu | D11: odhad | E11: real
C12: Výška príjmu z členských poplatkov | D12: 19500 | E12: =SUMIF(banka!A:A,realizacia!F12,banka!G:G)+G13 -> 17705 | F12: clenske
C13: Sponzorské príspevky | D13: 1000 | E13: =SUMIF(banka!A:A,realizacia!F13,banka!G:G) -> 0 | F13: dar
C14: Príjem z 2% daní | D14: 7500 | E14: =SUMIF(banka!A:A,realizacia!F14,banka!G:G) -> 0 | F14: stat
C15: Príjem spolu : | D15: =SUM(D12:D14) -> 28000 | E15: =SUM(E12:E14) -> 17705
C17: Druh - výdaju | D17: návrh | E17: čerpanie bank. prevodom | F17: označenie riadku " banka " | G17: čerpanie predošlý ŠR | I17: podklad zo školy
B18: s | C18: Klokan - MAT | D18: 1000 | E18: =SUMIF(banka!A:A,realizacia!F18,banka!G:G) -> 0 | F18: klokan | G18: -1000 | I18: KLOKAN 1. a 2. stupeň | L18: 1000
B19: s | C19: Komparo - MAT | D19: 600 | E19: =SUMIF(banka!A:A,realizacia!F19,banka!G:G) -> 0 | F19: komparo | G19: -997.5 | I19: Komparo | L19: 1200
B20: s | C20: Komparo - MAT | D20: 600 | E20: =SUMIF(banka!A:A,realizacia!F20,banka!G:G) -> -1113.9 | F20: komparo2 | G20: 0
B21: s | C21: Matboj - MAT | D21: 200 | E21: =SUMIF(banka!A:A,realizacia!F21,banka!G:G) -> 0 | F21: matboj | G21: -60 | I21: Matboj | L21: 200
B22: s | C22: Školské kolo Pytagoriády | D22: 150 | E22: =SUMIF(banka!A:A,realizacia!F22,banka!G:G) -> 0 | G22: 0 | I22: Školské kolo Pytagoriády | L22: 150
B23: s | C23: Podujatia v rámci protidrogovej prevencie | D23: 200 | E23: =SUMIF(banka!A:A,realizacia!F23,banka!G:G) -> 0 | G23: 0 | I23: Podujatia v rámci protidrogovej prevencie | L23: 200
B24: s | C24: Európa v škole ( kvíz - peniaze ) | D24: 50 | E24: =SUMIF(banka!A:A,realizacia!F24,banka!G:G) -> 0 | G24: 0 | I24: Európsky kvíz o peniazoch | L24: 50
B25: s | C25: Výtvarné súťaže | D25: 0 | E25: =SUMIF(banka!A:A,realizacia!F25,banka!G:G) -> 0 | G25: 0
B26: s | C26: Kultúrne besedy | D26: 300 | E26: =SUMIF(banka!A:A,realizacia!F26,banka!G:G) -> 0 | G26: 0 | I26: Kultúrne besedy | L26: 300
B27: s | C27: Čítanie s Mrkvičkou | D27: 350 | E27: =SUMIF(banka!A:A,realizacia!F27,banka!G:G) -> 0 | F27: mrkva | G27: 0 | I27: Čítanie s Mrkvičkou | L27: 350
B28: s | C28: Slávik Slovenska ceny a občerstvenie | D28: 100 | E28: =SUMIF(banka!A:A,realizacia!F28,banka!G:G) -> 0 | F28: slavik | G28: -41.14 | I28: Slávik Slovenska | L28: 100
B29: s | C29: Iné súťaže ( podľa ponuky ) | D29: 0 | E29: =SUMIF(banka!A:A,realizacia!F29,banka!G:G) -> -113.15 | F29: ine sut | G29: -89.59
B30: s | C30: Vedecký deň ( MDD ) | D30: 500 | E30: =SUMIF(banka!A:A,realizacia!F30,banka!G:G) -> 0 | F30: mdd | G30: -427.45 | I30: Vedecký deň | L30: 500
B31: s | C31: Testovanie 9 - občerstvenie | D31: 0 | E31: =SUMIF(banka!A:A,realizacia!F31,banka!G:G) -> 0 | F31: test9 | G31: -64.06
B32: s | C32: Lego -robotic, účasť na súťaži | D32: 0 | E32: =SUMIF(banka!A:A,realizacia!F32,banka!G:G) -> 0 | F32: lego | G32: -935
B33: s | C33: Lego -robotic, vybavenie organizácie ( dotácia - dar ) | D33: 0 | E33: =SUMIF(banka!A:A,realizacia!F33,banka!G:G) -> 0 | F33: lego_jiskr | G33: -1500
B34: s | C34: Olympiáda zo Sj | D34: 50 | E34: =SUMIF(banka!A:A,realizacia!F34,banka!G:G) -> 0 | F34: olympSJ | G34: -15.95 | I34: Olympiáda zo Sj | L34: 50
B35: s | C35: Literárne súťaže | D35: 50 | E35: =SUMIF(banka!A:A,realizacia!F35,banka!G:G) -> 0 | G35: 0 | I35: Literárne súťaže 1. a 2. stupeň | L35: 50
B36: s | C36: Hviezdoslavov Kubín - ceny I.st. | D36: 80 | E36: =SUMIF(banka!A:A,realizacia!F36,banka!G:G) -> 0 | F36: hviezda | G36: -73.97 | I36: Hviezdoslavov Kubín - ceny I.st. | L36: 80
B37: s | C37: Hviezdoslavov Kubín - ceny II.st. | D37: 200 | E37: =SUMIF(banka!A:A,realizacia!F37,banka!G:G) -> 0 | F37: hviezda2 | G37: 0 | I37: Hviezdoslavov Kubín - ceny II.st. | L37: 200
B38: s | C38: Šaliansky Maťko - ceny - I. stupeň | D38: 80 | E38: =SUMIF(banka!A:A,realizacia!F38,banka!G:G) -> -50.15 | F38: smatko1 | G38: -46.25 | I38: Šaliansky Maťko - ceny - I. stupeň | L38: 80
B39: s | C39: Šaliansky Maťko - ceny - II. stupeň | D39: 200 | E39: =SUMIF(banka!A:A,realizacia!F39,banka!G:G) -> -59.9 | F39: smatko2 | G39: -73 | I39: Šaliansky Maťko - ceny - II. stupeň | L39: 200
C40: Reprezentácia školy - vedomostné súťaže | D40: =SUM(D18:D39) -> 4710 | E40: =SUM(E18:E39) -> -1337.1 | G40: =SUM(G18:G39) -> -5323.91
C42: Exkurzno-poznávací zájazd ( podľa ponuky) | D42: 0 | E42: =SUMIF(banka!A:A,realizacia!F42,banka!G:G) -> 0 | F42: 1Csponzorsky | G42: 0
B43: s | C43: Škola v prírode doprava | D43: 1400 | E43: =SUMIF(banka!A:A,realizacia!F43,banka!G:G) -> 0 | F43: SvP | G43: -400 | I43: Škola v prírode, LVVK doprava 1. aj 2.stupeň | L43: 1400
B44: s | C44: Plavecký výcvik doprava | D44: 0 | E44: =SUMIF(banka!A:A,realizacia!F44,banka!G:G) -> 0 | F44: plav | G44: 0
B45: s | C45: Lyžovanie výcvik doprava | D45: 0 | E45: =SUMIF(banka!A:A,realizacia!F45,banka!G:G) -> 0 | F45: lyze | G45: -200
B46: s | C46: Športové súťaže, štartovné, cestovné - doprava | D46: 300 | E46: =SUMIF(banka!A:A,realizacia!F46,banka!G:G) -> -32.9 | F46: sport | G46: -593 | I46: Športové súťaže, štartovné, cestovné | L46: 300
B47: s | C47: Športové súťaže, štartovné, cestovné - doprava ŠKD | D47: 600 | E47: =SUMIF(banka!A:A,realizacia!F47,banka!G:G) -> 0 | F47: sportSKD | G47: -303.81 | I47: Doprava na kultúrne / športové podujatie | L47: 600
B48: s | C48: Exkurzie II. Stupeň | D48: 0 | E48: =SUMIF(banka!A:A,realizacia!F48,banka!G:G) -> 0 | G48: 0
C49: Športovo - vzdelávacie zájazdy | D49: =SUM(D42:D48) -> 2300 | E49: =SUM(E42:E48) -> -32.9 | G49: =SUM(G42:G48) -> -1496.81
B51: s | C51: Imatrikulácia prvákov | D51: 200 | E51: =SUMIF(banka!A:A,realizacia!F51,banka!G:G) -> -86.1 | F51: imat | G51: -75 | I51: Imatrikulácia prvákov | L51: 200
B52: s | C52: Mikuláš,program a balíčky | D52: 1400 | E52: =SUMIF(banka!A:A,realizacia!F52,banka!G:G) -> -1274 | F52: mikulas | G52: -860.4 | I52: Mikuláš | L52: 1400
B53: s | C53: Fašiangový karneval ŠKD ceny | D53: 500 | E53: =SUMIF(banka!A:A,realizacia!F53,banka!G:G) -> 0 | F53: fasiang | G53: -295.8 | I53: Fašiangový karneval ceny | L53: 500
B54: s | C54: MDD ceny pre žiakov | D54: 500 | E54: =SUMIF(banka!A:A,realizacia!F54,banka!G:G) -> 0 | F54: mddceny | G54: 0 | I54: MDD - ceny | L54: 500
B55: s | C55: Kultúrne besedy | D55: 0 | E55: =SUMIF(banka!A:A,realizacia!F55,banka!G:G) -> 0 | G55: 0
B56: s | C56: Výchovný koncert | D56: 300 | E56: =SUMIF(banka!A:A,realizacia!F56,banka!G:G) -> 0 | F56: koncert | G56: -150 | I56: Výchovný koncert - vstupné | L56: 300
C57: Kultúrne vystúpenia a stretnutia v škole | D57: =SUM(D51:D56) -> 2900 | E57: =SUM(E51:E56) -> -1360.1 | G57: =SUM(G51:G56) -> -1381.2
B59: s | C59: ocenenie počas školského roku | D59: 600 | E59: =SUMIF(banka!A:A,realizacia!F59,banka!G:G) -> 0 | F59: odmeny | G59: 405.25 | I59: Ocenenie počas školského roku | L59: 600
B60: s | C60: ocenenie na konci školského roku | D60: 500 | E60: =SUMIF(banka!A:A,realizacia!F60,banka!G:G) -> 0 | F60: OdmeK | G60: 0 | I60: Ocenenie na konci školského roku | L60: 500
B61: s | C61: naj trieda II stupeň | D61: 300 | E61: =SUMIF(banka!A:A,realizacia!F61,banka!G:G) -> 0 | G61: 0 | I61: Naj trieda II stupeň | L61: 300
C62: Ceny pre najlepších žiakov, triedy | D62: =SUM(D59:D61) -> 1400 | E62: =SUM(E59:E61) -> 0 | G62: =SUM(G59:G61) -> 405.25
B64: s | C64: Nákup pomôcok MAT , INF ( kružidlá, pravítka ) | D64: 600 | E64: =SUMIF(banka!A:A,realizacia!F64,banka!G:G) -> -125.8 | F64: pommat | G64: -182.4
B65: s | C65: Nákup pomôcok VV ( tav. Pištol . Sam. hmota ) | D65: 115 | E65: =SUMIF(banka!A:A,realizacia!F65,banka!G:G) -> 0 | F65: pomvv | G65: -200.69
B66: s | C66: Ilustrovaná encyklopédia SK | D66: 0 | E66: =SUMIF(banka!A:A,realizacia!F66,banka!G:G) -> 0 | F66: encyklop | G66: -625
B67: s | C67: Kabinet 1-4 ročník | D67: 941 | E67: =SUMIF(banka!A:A,realizacia!F67,banka!G:G) -> -54.52 | F67: kab1-4
B68: s | C68: Nákup pomôcok ŠKD | D68: 500 | E68: =SUMIF(banka!A:A,realizacia!F68,banka!G:G) -> 0 | F68: pomskd | G68: -1736.92 | I68: Pomôcky pre žiakov ŠVvP | L68: 500
B69: s | C69: Nákup pomôcok HV ( piano , mikrofony ) | D69: 899 | E69: =SUMIF(banka!A:A,realizacia!F69,banka!G:G) -> 0 | G69: 0 | I69: Stage piano: | L69: 899
B70: s | C70: Pomôcky na DEJ, GEG, OBN | D70: 0 | E70: =SUMIF(banka!A:A,realizacia!F70,banka!G:G) -> 0 | F70: geo | G70: 0
B71: s | C71: Nákup pomôcok ETV- NBV – VYV – TSV - AJ | D71: 4463 | E71: =SUMIF(banka!A:A,realizacia!F71,banka!G:G) -> -994.96 | F71: vychovy | G71: -746.67
C72: Učebné pomôcky a výchova | D72: =SUM(D64:D71) -> 7518 | E72: =SUM(E64:E71) -> -1175.28 | G72: =SUM(G64:G71) -> -3491.68
B74: s | C74: Vybavenie šk. areálu - detské preliezky | D74: 8000 | E74: =SUMIF(banka!A:A,realizacia!F74,banka!G:G) -> 0 | F74: ihrisko | G74: -10553.4 | I74: Vybavenie šk. areálu - detské preliezky | L74: 8000
B75: s | C75: Oplotenie mini multifunkčného ihriska 1st. | D75: 8000 | E75: =SUMIF(banka!A:A,realizacia!F75,banka!G:G) -> -11874.42 | F75: mini-ih | I75: Oplotenie mini multifunkčného ihriska 1st. | L75: 8000
B76: s | C76: Klimatizácia do tried 2 ks | D76: 0 | E76: =SUMIF(banka!A:A,realizacia!F76,banka!G:G) -> 0 | F76: klimarodicia
B77: s | C77: Vizualizér žiarovka | D77: 0 | E77: =SUMIF(banka!A:A,realizacia!F77,banka!G:G) -> 0
B78: s | C78: Vizualizér 9KS | D78: 0 | E78: =SUMIF(banka!A:A,realizacia!F78,banka!G:G) -> 0 | F78: nabstan | I78: Pomôcky-modely telies,zlomkovnica,kalkulačky | L78: 500
C79: Projekty: | D79: =SUM(D74:D78) -> 16000 | E79: =SUM(E74:E78) -> -11874.42 | G79: =SUM(G74:G78) -> -10553.4 | I79: micro:bit | L79: 50
I80: Telekom | L80: 50
B81: s | C81: banka - poplatky | D81: 150 | E81: =SUMIF(banka!A:A,realizacia!F81,banka!G:G) -> -165.25 | F81: banka | G81: -243.25 | I81: MAT
B82: s | C82: Odmena za správu aktív | D82: 800 | E82: =SUMIF(banka!A:A,realizacia!F82,banka!G:G) -> 0 | F82: sprava | G82: 400 | I82: rydlá na linoryt | J82: 24ks | L82: 55
B83: s | C83: Kancelárske potreby, doklady, poštové poplatky, iné | D83: 20 | E83: =SUMIF(banka!A:A,realizacia!F83,banka!G:G) -> 0 | F83: posta | G83: 0 | I83: softcut - mäkké lino formatu A4 | J83: 10ks | L83: 60
B84: s | C84: zverejnenie v obchodnom vestníku | D84: 3.5 | E84: =SUMIF(banka!A:A,realizacia!F84,banka!G:G) -> 0 | F84: vestnik | G84: 5 | I84: PK: VV,
B85: s | C85: registrácia MNV | E85: =SUMIF(banka!A:A,realizacia!F85,banka!G:G) -> 0 | F85: mnv | G85: 0 | I85: Malé laboratórium | J85: 2ks | L85: 110
B86: s | C86: Notár | D86: 70 | E86: =SUMIF(banka!A:A,realizacia!F86,banka!G:G) -> -90 | F86: not2 | G86: 90 | I86: Čísla od 1 do 10 | J86: 2ks | L86: 46
B87: s | C87: seminar pre OZ organizuje BSK | D87: 80 | E87: =SUMIF(banka!A:A,realizacia!F87,banka!G:G) -> 0 | F87: sem | G87: 0 | I87: Čísla od 0 do 10 modré | J87: 3ks | L87: 20
C88: Režijné náklady OZ | D88: =SUM(D81:D87) -> 1123.5 | E88: =SUM(E81:E87) -> -255.25 | G88: =SUM(G81:G87) -> 251.75 | I88: Čísla modré 11-20 | J88: 3ks | L88: 20
I89: Počítadlo do 20 | J89: 25ks | L89: 200
I90: Tangramy plastové | J90: 4ks | L90: 45
C91: Suma výdavkov | D91: =SUMIF($B:$B,"s",$D:$D) -> 35951.5 | E91: =SUMIF($B$18:$B$89,"s",E18:E89) -> -16035.05 | I91: Abeceda pracovné karty | J91: 2ks | L91: 35
D92: návrh | E92: real | I92: Slabiky pracovné karty | J92: 4ks | L92: 140
I93: Abeceda na kartách písané písmená | J93: 2ks | L93: 35
I94: Abeceda na kartách tlač.písmená | J94: 2ks | L94: 35
I95: Delenie hlások | J95: 3ks | L95: 60
I96: Drevené kocky | J96: 2ks | L96: 75
I97: Vedecká sada – Voda | J97: 1ks | L97: 65
I98: Magnety 10 ks | J98: 1ks | L98: 15
I99: Sada magnetov | J99: 1ks | L99: 40
I100: Kabinet 1-4 ročník
I101: žinenková prekážka | J101: 4ks | L101: 155
I102: vrece na skákanie s ušami | J102: 6ks | L102: 90
I103: švédska debna rinogym | J103: 1ks | L103: 1040
I104: preskoková drevená koza | J104: 1 ks | L104: 1600
I105: Brankárske chrániče kolien | J105: 2ks | L105: 110
I106: Sieťka s držiakmi na stolny tenis | J106: 3ks | L106: 60
I107: Telesná výchova- kabinet TSV
I108: Všeobecné pomôcky pre učiteľov (18 učiteľov) | L108: 360
...

Sheet banka
B2: Číslo účtu: | D2: SK1902000000003058498554
B3: BIC: | D3: SUBASKBX | O3: Dátum generovania:
B4: Mena účtu: | D4: EUR | O4: Čas generovania:
B5: Typ účtu: | D5: Bežný účet
B6: Majiteľ účtu: | D6: RAJČIANSKA 3
B8: Export pohybov na účte SK1902000000003058498554
B9: podľa zvolených vyhľadávacích kritérií
B13: Detaily transakcií:
A15: zaradenie | B15: Dátum zaúčtovania | C15: Dátum realizácie | D15: Účet partnera | E15: BIC | F15: Názov partnera | G15: Suma | H15: Mena | I15: Referencia partnera | J15: VS | K15: ŠS | L15: KS | M15: Doplňujúce informácie | N15: Číslo dokladu | O15: Identifikátor dávky platieb | P15: Účtovný zostatok
A16: clenske | B16: 45904 | C16: 45904 | F16: Andrea Al Attalah | G16: 30 | H16: EUR | P16: 10828.29
A17: clenske | B17: 45905 | C17: 45905 | F17: Marianna Modrovichová | G17: 50 | H17: EUR | P17: 10878.29
A18: clenske | B18: 45905 | C18: 45904 | F18: Luknárová Monika, Ing. | G18: 30 | H18: EUR | P18: 10908.29
A19: clenske | B19: 45908 | C19: 45905 | F19: Mária Miklošová | G19: 30 | H19: EUR | P19: 10938.29
A20: clenske | B20: 45908 | C20: 45905 | F20: Soňa Gajdošová | G20: 30 | H20: EUR | P20: 10968.29
A21: clenske | B21: 45908 | C21: 45905 | F21: POLIACIKOVA ALEXANDR | G21: 30 | H21: EUR | P21: 10998.29
A22: clenske | B22: 45908 | C22: 45905 | F22: Diana Jankovic Cechova | G22: 30 | H22: EUR | P22: 11028.29
A23: clenske | B23: 45908 | C23: 45905 | F23: Viktória Chorváthová | G23: 30 | H23: EUR | P23: 11058.29
A24: clenske | B24: 45908 | C24: 45906 | F24: Martin Hromek | G24: 30 | H24: EUR | P24: 11088.29
A25: clenske | B25: 45908 | C25: 45906 | F25: Stebnická Andrea, Mgr. | G25: 30 | H25: EUR | P25: 11118.29
A26: clenske | B26: 45908 | C26: 45906 | F26: Stebnická Andrea, Mgr. | G26: 30 | H26: EUR | P26: 11148.29
A27: clenske | B27: 45908 | C27: 45906 | F27: Eva Kozics Kulčárová | G27: 30 | H27: EUR | P27: 11178.29
... A339: clenske | B339: 45923 | C339: 45923 | F339: Angelika Hallova | G339: -30 | H339: EUR | P339: 20498.29
A340: kab1-4 | B340: 45923 | C340: 45923 | D340: SK2909000000005033845424 | E340: GIBASKBX | F340: Alza | G340: -18.57 | H340: EUR | I340: /VS561781936/SS/KS8 | J340: 0561781936 | L340: 0008 | M340: objednavka 561781936 | N340: 2509232KO7IBR | P340: 20479.72
A341: clenske | B341: 45923 | C341: 45923 | F341: INFRA Slovakia, s.r.o. | G341: -325 | H341: EUR | P341: 20154.72
A342: clenske | B342: 45924 | C342: 45923 | F342: Klaudia Krížiková | G342: 30 | H342: EUR | P342: 20184.72
A343: clenske | B343: 45924 | C343: 45923 | F343: Buran Sinani | G343: 30 | H343: EUR | P343: 20214.72
A344: clenske | B344: 45924 | C344: 45923 | F344: Sayedová Jana, Ing. | G344: 30 | H344: EUR | P344: 20244.72
A345: clenske | B345: 45925 | C345: 45925 | F345: MARTIN VYSLOCKY | G345: 30 | H345: EUR | P345: 20274.72
A346: clenske | B346: 45925 | C346: 45925 | F346: Lucia Conkova | G346: 30 | H346: EUR | P346: 20304.72
A347: clenske | B347: 45926 | C347: 45926 | F347: Ingrid Hercegova | G347: 30 | H347: EUR | P347: 20334.72
A348: clenske | B348: 45926 | C348: 45926 | F348: Miroslav Kovacik | G348: 30 | H348: EUR | P348: 20364.72
A349: clenske | B349: 45926 | C349: 45926 | F349: Kristina Hrinkova | G349: 30 | H349: EUR | P349: 20394.72
A350: clenske | B350: 45929 | C350: 45928 | F350: Šišková Katarína, Ing. | G350: 30 | H350: EUR | P350: 20424.72
A351: clenske | B351: 45929 | C351: 45929 | F351: Iurii Aleksyshynets | G351: 30 | H351: EUR | P351: 20454.72
A352: clenske | B352: 45929 | C352: 45929 | F352: Oleksandr Zykov | G352: 30 | H352: EUR | P352: 20484.72
... A358: clenske | B358: 45930 | C358: 45930 | F358: Roman Kocnar | G358: 30 | H358: EUR | P358: 20664.72
A359: banka | B359: 45930 | C359: 45930 | G359: -8 | H359: EUR | J359: 0000000009 | L359: 0898 | M359: Vedenie konta VÚB Biznis účet Štan | N359: 3009IG0174904 | P359: 20656.72
A360: banka | B360: 45930 | C360: 45930 | G360: -82 | H360: EUR | J360: 0000000009 | L360: 0898 | M360: Poplatky za platby nad rámec konta | N360: 3009IG0174905 | P360: 20574.72
A361: clenske | B361: 45931 | C361: 45931 | F361: Tatiana Marusinska | G361: 30 | H361: EUR | P361: 20604.72
A362: clenske | B362: 45931 | C362: 45931 | F362: Peter Šerák | G362: 30 | H362: EUR | P362: 20634.72
A363: clenske | B363: 45931 | C363: 45931 | F363: Miroslava Tomanikova | G363: 30 | H363: EUR | P363: 20664.72
A364: clenske | B364: 45931 | C364: 45931 | F364: Martin Jantosovic | G364: 30 | H364: EUR | P364: 20694.72
A365: clenske | B365: 45931 | C365: 45931 | F365: Martin Jantosovic | G365: 30 | H365: EUR | P365: 20724.72
A366: clenske | B366: 45931 | C366: 45931 | F366: Straková Hana | G366: 30 | H366: EUR | P366: 20754.72
A367: clenske | B367: 45931 | C367: 45931 | F367: Gastello Kittlerová Zuzana | G367: 30 | H367: EUR | P367: 20784.72
A368: clenske | B368: 45931 | C368: 45931 | F368: Olha Kvardova | G368: 30 | H368: EUR | P368: 20814.72
A369: clenske | B369: 45931 | C369: 45931 | F369: Monika Mihalikova | G369: 30 | H369: EUR | P369: 20844.72
A370: clenske | B370: 45931 | C370: 45931 | F370: Monika Mihalikova | G370: 30 | H370: EUR | P370: 20874.72
A371: clenske | B371: 45931 | C371: 45931 | F371: Ciglanová Martina | G371: 30 | H371: EUR | P371: 20904.72
A372: clenske | B372: 45931 | C372: 45931 | F372: Žák Miroslava, Mgr. | G372: 30 | H372: EUR | P372: 20934.72
... A382: clenske | B382: 45931 | C382: 45931 | F382: Svitlana Dochynets | G382: 30 | H382: EUR | P382: 21234.72
A383: komparo2 | B383: 45931 | C383: 45931 | D383: SK5511000000002627833013 | E383: TATRSKBX | F383: Exam testing sro | G383: -1113.9 | H383: EUR | I383: /VS225310347/SS/KS308 | J383: 0225310347 | L383: 0308 | M383: Komparo 8 - 9 Rajcianska 3 | N383: 25100131PIIBR | P383: 20120.82
A384: clenske | B384: 45932 | C384: 45932 | F384: Felis Marek | G384: 30 | H384: EUR | P384: 20150.82
A385: clenske | B385: 45932 | C385: 45932 | F385: Monika Oravcova | G385: 30 | H385: EUR | P385: 20180.82
A386: clenske | B386: 45932 | C386: 45932 | F386: Monika Oravcova | G386: 30 | H386: EUR | P386: 20210.82
A387: clenske | B387: 45932 | C387: 45932 | F387: Buriak Inna | G387: 30 | H387: EUR | P387: 20240.82
A388: clenske | B388: 45932 | C388: 45932 | F388: Patrik Zima | G388: 30 | H388: EUR | P388: 20270.82
A389: clenske | B389: 45932 | C389: 45932 | F389: Martin Kusovsky | G389: 30 | H389: EUR | P389: 20300.82
A390: clenske | B390: 45932 | C390: 45932 | F390: Kristína Víteková | G390: 30 | H390: EUR | P390: 20330.82
A391: clenske | B391: 45932 | C391: 45932 | F391: Eva Čiefová | G391: 30 | H391: EUR | P391: 20360.82
A392: clenske | B392: 45932 | C392: 45932 | F392: Oleksyn Hanna | G392: 30 | H392: EUR | P392: 20390.82
A393: clenske | B393: 45932 | C393: 45932 | F393: Sasková Zuzana | G393: 30 | H393: EUR | P393: 20420.82
A394: clenske | B394: 45932 | C394: 45932 | F394: Jozef Mozola | G394: 30 | H394: EUR | P394: 20450.82
A395: clenske | B395: 45932 | C395: 45932 | F395: Peter Gaspar | G395: 30 | H395: EUR | P395: 20480.82
... A539: clenske | B539: 45950 | C539: 45949 | F539: Barbora Petrášová | G539: 30 | H539: EUR | P539: 24790.82
A540: pommat | B540: 45950 | C540: 45949 | D540: SK4202000000002046561451 | E540: SUBASKBXXXX | F540: Orbis Pictus Istropolitana spol. s.r.o. | G540: -125.8 | H540: EUR | I540: /VS2500403796/SS/KS0008 | J540: 2500403796 | L540: 0008 | M540: Fyzika pracovne zosity | N540: 25101906JVIBR | P540: 24665.02
A541: clenske | B541: 45950 | C541: 45949 | F541: Jana Bielekova | G541: 30 | H541: EUR | P541: 24695.02
A542: clenske | B542: 45950 | C542: 45950 | F542: Lenka Spanikova | G542: -30 | H542: EUR | P542: 24665.02
A543: imat | B543: 45950 | C543: 45950 | D543: SK9709000000000631735783 | E543: GIBASKBXXXX | F543: Tatiana Brndiarova | G543: -86.1 | H543: EUR | I543: /VS123456/SS/KS0558 | J543: 0000123456 | L543: 0558 | M543: Imatrikulacia prvakov - odznaky | N543: 251019068ZIBR | P543: 24578.92
A544: clenske | B544: 45950 | C544: 45950 | F544: Juraj Šindler | G544: 30 | H544: EUR | P544: 24608.92
A545: clenske | B545: 45951 | C545: 45951 | F545: Miroslava Horňáková | G545: 30 | H545: EUR | P545: 24638.92
A546: clenske | B546: 45951 | C546: 45951 | F546: MAROS VOSCEK | G546: 30 | H546: EUR | P546: 24668.92
A547: clenske | B547: 45951 | C547: 45951 | F547: Gregorovič Július, Ing. | G547: 30 | H547: EUR | P547: 24698.92
A548: clenske | B548: 45951 | C548: 45951 | F548: Tomas Toneiser | G548: 30 | H548: EUR | P548: 24728.92
A549: clenske | B549: 45952 | C549: 45952 | F549: Peter Lányi | G549: 30 | H549: EUR | P549: 24758.92
A550: clenske | B550: 45952 | C550: 45952 | F550: Klaudia Smolinská | G550: 30 | H550: EUR | P550: 24788.92
A551: clenske | B551: 45952 | C551: 45952 | F551: Paulina Pavlicek | G551: 30 | H551: EUR | P551: 24818.92
A552: clenske | B552: 45953 | C552: 45953 | F552: Katarina Navratilova | G552: 30 | H552: EUR | P552: 24848.92
A553: clenske | B553: 45953 | C553: 45952 | F553: Daniela Ovadová | G553: 30 | H553: EUR | P553: 24878.92
A554: clenske | B554: 45953 | C554: 45953 | F554: Patrik Zima | G554: -30 | H554: EUR | P554: 24848.92
A555: vychovy | B555: 45953 | C555: 45953 | D555: SK6875000000004001969241 | E555: CEKOSKBXXXX | F555: Alza.sk s.r.o. | G555: -146.75 | H555: EUR | I555: /VS565983934/SS/KS0008 | J555: 0565983934 | L555: 0008 | M555: OZ Rajcianska3 sijaci stroj | N555: 2510232DS7IBR | P555: 24702.17
A556: clenske | B556: 45954 | C556: 45954 | F556: Katarina Grogerova | G556: 30 | H556: EUR | P556: 24732.17
A557: clenske | B557: 45957 | C557: 45956 | F557: Zuzana Tothova | G557: 30 | H557: EUR | P557: 24762.17
A558: clenske | B558: 45957 | C558: 45957 | F558: BOSKOVICOVA ADRIANA | G558: 30 | H558: EUR | P558: 24792.17
A559: clenske | B559: 45957 | C559: 45957 | F559: Aneta Zelinková | G559: 30 | H559: EUR | P559: 24822.17
A560: clenske | B560: 45957 | C560: 45957 | F560: Peter Gaspar | G560: 30 | H560: EUR | P560: 24852.17
A561: clenske | B561: 45958 | C561: 45958 | F561: Šuplata Peter, Ing. | G561: 30 | H561: EUR | P561: 24882.17
A562: clenske | B562: 45958 | C562: 45958 | F562: Šuplata Peter, Ing. | G562: 30 | H562: EUR | P562: 24912.17
A563: clenske | B563: 45958 | C563: 45958 | F563: Požgay Peter | G563: 30 | H563: EUR | P563: 24942.17
A564: clenske | B564: 45958 | C564: 45957 | F564: Veronika Voštinárová | G564: 30 | H564: EUR | P564: 24972.17
A565: clenske | B565: 45959 | C565: 45959 | F565: Olha Chernikova | G565: 30 | H565: EUR | P565: 25002.17
A566: clenske | B566: 45960 | C566: 45960 | F566: Juraj Šindler | G566: 30 | H566: EUR | P566: 25032.17
A567: clenske | B567: 45960 | C567: 45960 | F567: Juraj Šindler | G567: 30 | H567: EUR | P567: 25062.17
... A573: clenske | B573: 45961 | C573: 45960 | F573: Chandoga Špačková Jana, Mgr. | G573: 30 | H573: EUR | P573: 25242.17
A574: banka | B574: 45961 | C574: 45961 | G574: -8 | H574: EUR | J574: 0000000009 | L574: 0898 | M574: Vedenie konta VÚB Biznis účet Štan | N574: 3110IG0177496 | P574: 25234.17
A575: banka | B575: 45961 | C575: 45961 | G575: -49.5 | H575: EUR | J575: 0000000009 | L575: 0898 | M575: Poplatky za platby nad rámec konta | N575: 3110IG0177497 | P575: 25184.67
A576: vychovy | B576: 45964 | C576: 45962 | D576: SK1602000000006138048012 | E576: SUBASKBXXXX | F576: Martina Slovikova | G576: -19.9 | H576: EUR | I576: /VS123456/SS/KS0558 | J576: 0000123456 | L576: 0558 | M576: pomocky anglictina | N576: 2511010P07IBR | P576: 25164.77
A577: vychovy | B577: 45964 | C577: 45962 | D577: SK2702000000002345912354 | E577: SUBASKBXXXX | F577: Miloslava Skultetyova | G577: -315.46 | H577: EUR | I577: /VS123456/SS/KS0558 | J577: 0000123456 | L577: 0558 | M577: cudzie jazyky | N577: 2511010P7GIBR | P577: 24849.31
A578: clenske | B578: 45964 | C578: 45962 | F578: Požgay Peter | G578: 30 | H578: EUR | P578: 24879.31
A579: clenske | B579: 45964 | C579: 45962 | F579: Martin Sčensný | G579: 30 | H579: EUR | P579: 24909.31
...

Sheet 2% a pris
C3: 0.02 | D3: rodičia | E3: spolu
B4: školský rok 2013/2014 | C4: 4162.52 | D4: 14240 | E4: =SUM(C4:D4) -> 18402.52
B5: školský rok 2014/2015 | C5: 6265.41 | D5: 11420 | E5: =SUM(C5:D5) -> 17685.41
B6: školský rok 2015/2016 | C6: 5618.8 | D6: 12467 | E6: =SUM(C6:D6) -> 18085.8
B7: školský rok 2016/2017 | C7: 8628.58 | D7: 12707 | E7: =SUM(C7:D7) -> 21335.58
B8: školský rok 2017/2018 | C8: 6197.58 | D8: 13001 | E8: =SUM(C8:D8) -> 19198.58
B9: školský rok 2018/2019 | C9: 9729.95 | D9: 15197 | E9: =SUM(C9:D9) -> 24926.95
B10: školský rok 2019/2020 | C10: 3036.6 | D10: 15715 | E10: =SUM(C10:D10) -> 18751.6
B11: školský rok 2020/2021 | C11: 10637.42 | D11: 13208 | E11: =SUM(C11:D11) -> 23845.42
B12: školský rok 2021/2022 | C12: 7183.73 | D12: 14235 | E12: =SUM(C12:D12) -> 21418.73
B13: školský rok 2022/2023 | C13: 7625.57 | D13: 12285.27 | E13: =SUM(C13:D13) -> 19910.84
B14: školský rok 2023/2024 | C14: 7400.69 | D14: 21820 | E14: =SUM(C14:D14) -> 29220.69
B15: školský rok 2024/2025 | C15: 7785.16 | D15: 19472.7 | E15: =SUM(C15:D15) -> 27257.86
B27: účtovný rok 2014 | C27: 4162.52
B28: účtovný rok 2015 | C28: 6265.41
B29: účtovný rok 2016 | C29: 6472.1
B30: účtovný rok 2017 | C30: 7788
B31: účtovný rok 2018 | C31: 6873.54
B32: účtovný rok 2019 | C32: 9836.03
B33: účtovný rok 2020 | C33: 3020.42
B34: účtovný rok 2021 | C34: 11115.17
B35: účtovný rok 2022 | C35: 7212.64 | D35: 45358
B36: účtovný rok 2023 | C36: 7933.53 | D36: 45721
B37: účtovný rok 2024 | C37: 7400.69 | D37: 46043
B38: účtovný rok 2025
